BEGIN:VCALENDAR
VERSION:2.0
PRODID:-//Des arbres et des ailes - ECPv5.16.1//NONSGML v1.0//EN
CALSCALE:GREGORIAN
METHOD:PUBLISH
X-WR-CALNAME:Des arbres et des ailes
X-ORIGINAL-URL:https://desarbresetdesailes.fr
X-WR-CALDESC:évènements pour Des arbres et des ailes
REFRESH-INTERVAL;VALUE=DURATION:PT1H
X-Robots-Tag:noindex
X-PUBLISHED-TTL:PT1H
BEGIN:VTIMEZONE
TZID:Europe/Paris
BEGIN:DAYLIGHT
TZOFFSETFROM:+0100
TZOFFSETTO:+0200
TZNAME:CEST
DTSTART:20260329T010000
END:DAYLIGHT
BEGIN:STANDARD
TZOFFSETFROM:+0200
TZOFFSETTO:+0100
TZNAME:CET
DTSTART:20261025T010000
END:STANDARD
END:VTIMEZONE
BEGIN:VEVENT
DTSTART;TZID=Europe/Paris:20260510T134500
DTEND;TZID=Europe/Paris:20260510T164500
DTSTAMP:20260423T151330
CREATED:20260121T150941Z
LAST-MODIFIED:20260421T142043Z
UID:5438-1778420700-1778431500@desarbresetdesailes.fr
SUMMARY:Sortie de sylvothérapie printanière
DESCRIPTION:[vc_row][vc_column][vc_mad_btn title= »Réservez » size= »btn-big » align= »ys-left » link= »url:https%3A%2F%2Fdesarbresetdesailes.fr%2Fcontact%2F%23contact||| »][/vc_column][/vc_row][vc_row][vc_column css= ».vc_custom_1589291761706{margin-top: 30px !important;margin-bottom: 30px !important;} »][vc_column_text] \nProfitez d’une sortie de sylvothérapie dans l’atmosphère du printemps ! \nDifférents ateliers vous seront proposés : ateliers de détente\, de connexion\, immersion sensorielle\, rencontres avec les arbres et autres surprises… ainsi que\, comme toujours\, un brin de poésie 🙂 \nJe profite également de mes sorties pour vous transmettre quelques connaissances naturalistes\, lorsque l’occasion se présente. \nRDV à 13h45 au parking de la Forêt Communale de Lunéville\, pour une séance de 14h00 à 16h45. Le parking se trouve tout au bout de la rue de Mondon dans la Commune de Moncel-lès-Lunéville. Puis direction vers le site prévu de la sortie ! \nSur réservation obligatoire au plus tard deux jours avant la sortie (places limitées) sur la page contact du site internet. \n25 euros par personne et 18 euros pour les moins de 14 ans. Remise de 20% sur le tarif adulte sur une cinquième sortie et pour toutes les sorties. \nDes consignes vous seront données pour la séance\, après inscription. \nLa sortie sera reportée en cas de force majeure ou de météo incompatible. De même\, elle pourra être reportée en cas de travaux forestiers. \nAu plaisir de vous retrouver en forêt ! 🙂 \n[/vc_column_text][/vc_column][/vc_row]
URL:https://desarbresetdesailes.fr/event/sortie-de-sylvotherapie-printaniere/
LOCATION:Forêt de Mondon (54)
ATTACH;FMTTYPE=image/jpeg:https://desarbresetdesailes.fr/wp-content/uploads/2023/08/Cimes-et-ciel-4-Lucie-Coupe.jpg
END:VEVENT
BEGIN:VEVENT
DTSTART;TZID=Europe/Paris:20260517T134500
DTEND;TZID=Europe/Paris:20260517T160000
DTSTAMP:20260423T151330
CREATED:20260122T153623Z
LAST-MODIFIED:20260421T144735Z
UID:5440-1779025500-1779033600@desarbresetdesailes.fr
SUMMARY:Balade sylvo-poétique
DESCRIPTION:[vc_row][vc_column][vc_mad_btn title= »Réservez » size= »btn-big » align= »ys-left » link= »url:https%3A%2F%2Fdesarbresetdesailes.fr%2Fcontact%2F%23contact||| »][/vc_column][/vc_row][vc_row][vc_column css= ».vc_custom_1589291761706{margin-top: 30px !important;margin-bottom: 30px !important;} »][vc_column_text] \nEn cette atmosphère printanière\, profitez d’un instant poétique parmi les arbres. \nLors de cette balade\, je vous invite à prendre un temps pour vous\, afin de vous détendre et de vous (re)connecter à la nature\, dans une approche poétique. Invitation à l’émerveillement\, temps de pleine conscience\, lectures de poésies et récits composés par mes soins… : à travers cette immersion sylvestre\, Dame Nature vous montrera ses merveilles et vous murmurera ses messages ! Et elle vous dévoilera ses somptueuses et harmonieuses formes géométriques… \nJe profite également de mes sorties pour vous transmettre quelques connaissances naturalistes\, lorsque l’occasion se présente. Je vous parlerai aussi d’un sujet fascinant mais finalement peu connu car presque oublié : la géométrie sacrée dans la nature. \nRemarque importante : les balades sylvo-poétiques ne comprennent pas de temps de connexion avec les arbres. Si vous souhaitez vivre un temps de connexion avec un arbre\, je vous conseille la sortie de sylvothérapie. \nRDV à 13h45 au parking de la Forêt Communale de Lunéville\, pour une séance de 14h00 à 16h00. Le parking se trouve tout au bout de la rue de Mondon dans la Commune de Moncel-lès-Lunéville. Puis direction vers le site prévu de la sortie ! \nSur réservation obligatoire au plus tard deux jours avant la sortie (places limitées) sur la page contact du site internet. \n20 euros par personne (sortie conseillée plutôt pour les adultes\, et à partir de 15 ans). \nDes consignes vous seront données pour la séance\, après inscription. \nLa sortie sera reportée en cas de force majeure ou de météo incompatible. De même\, elle pourra être reportée en cas de travaux forestiers. \nAu plaisir de vous retrouver en forêt ! 🙂 \n[/vc_column_text][/vc_column][/vc_row]
URL:https://desarbresetdesailes.fr/event/balade-sylvo-poetique/
LOCATION:Forêt de Mondon (54)
ATTACH;FMTTYPE=image/jpeg:https://desarbresetdesailes.fr/wp-content/uploads/2026/04/P1120170.jpg
END:VEVENT
BEGIN:VEVENT
DTSTART;TZID=Europe/Paris:20260613T134500
DTEND;TZID=Europe/Paris:20260613T164500
DTSTAMP:20260423T151330
CREATED:20260211T154819Z
LAST-MODIFIED:20260421T150248Z
UID:5444-1781358300-1781369100@desarbresetdesailes.fr
SUMMARY:Sylvothérapie : à quelques jours de l'été...
DESCRIPTION:[vc_row][vc_column][vc_mad_btn title= »Réservez » size= »btn-big » align= »ys-left » link= »url:https%3A%2F%2Fdesarbresetdesailes.fr%2Fcontact%2F%23contact||| »][/vc_column][/vc_row][vc_row][vc_column css= ».vc_custom_1589291761706{margin-top: 30px !important;margin-bottom: 30px !important;} »][vc_column_text] \nProfitez d’une sortie de sylvothérapie entre la fin du printemps et le début de l’été ! \nDifférents ateliers vous seront proposés : ateliers de détente\, de connexion\, immersion sensorielle\, rencontres avec les arbres et autres surprises… ainsi que\, comme toujours\, un brin de poésie 🙂 \nCe sera aussi l’occasion de célébrer le printemps tout en vous préparant à l’ouverture des portes de l’été. \nJe profite également de mes sorties pour vous transmettre quelques connaissances naturalistes\, lorsque l’occasion se présente. \nRDV à 13h45 au parking de la Forêt Communale de Lunéville\, pour une séance de 14h00 à 16h45. Le parking se trouve tout au bout de la rue de Mondon dans la Commune de Moncel-lès-Lunéville. Puis direction vers le site prévu de la sortie ! \nSur réservation obligatoire au plus tard deux jours avant la sortie (places limitées) sur la page contact du site internet. \n25 euros par personne et 18 euros pour les moins de 14 ans. Remise de 20% sur le tarif adulte sur une cinquième sortie et pour toutes les sorties. \nDes consignes vous seront données pour la séance\, après inscription. \nLa sortie sera reportée en cas de force majeure ou de météo incompatible. De même\, elle pourra être reportée en cas de travaux forestiers. \nAu plaisir de vous retrouver en forêt ! 🙂 \n[/vc_column_text][/vc_column][/vc_row]
URL:https://desarbresetdesailes.fr/event/sylvotherapie-a-quelques-jours-de-lete/
LOCATION:Forêt de Mondon (54)
ATTACH;FMTTYPE=image/jpeg:https://desarbresetdesailes.fr/wp-content/uploads/2023/08/Cimes-et-ciel-4-Lucie-Coupe.jpg
END:VEVENT
END:VCALENDAR